View In:
ArcGIS JavaScript
ArcGIS Online Map Viewer
ArcGIS Earth
ArcMap
ArcGIS Pro
View Footprint In:
ArcGIS Online Map Viewer
Service Description: Použitie údajov VFR Manuálu nie je limitované. Pri opätovnom použití tlačových výstupov, dokumentov alebo vrstiev mapy inak inak ako pre osobnú potrebu, je používateľ povinný citovať zdroj „VFR Manual, LPS SR š. p.“ a v prípade ďalšieho internetového publikovania uviesť aj hypertextový odkaz https://gis.lps.sk/vfrm. LIS SR ako prevádzkovateľ VFR Manuálu nenesie zodpovednosť za údaje a informácie mimo ich pôvodného zdroja na https://gis.lps.sk/vfrm. Použitie mapových vrstiev externých prispievateľov sa riadi pravidlami držiteľov autorských práv: Topographic, Imagery, Imagery with Labels, Streets, Dark Gray Canvas, Light Gray Canvas : © ESRI OpenStreetMap : © OpenStreetMap contributors CC-BY-SA Letecká mapa 1:500 000, VM200 : © TOPÚ Banská Bystrica ZB GIS : © GKÚ
Map Name: Layers
Legend
All Layers and Tables
Layers:
Description:
Service Item Id: 367a6417bf4a48d69b9f984264cfd3f9
Copyright Text: LPS SR
Spatial Reference:
102100
(3857)
Single Fused Map Cache: true
Tile Info:
- Height: 256
- Width: 256
- DPI: 96
-
Levels of Detail: 24
-
Level ID: 0
[ Start Tile, End Tile ]
- Resolution: 156543.03392800014
- Scale: 5.91657527591555E8
-
Level ID: 1
[ Start Tile, End Tile ]
- Resolution: 78271.51696399994
- Scale: 2.95828763795777E8
-
Level ID: 2
[ Start Tile, End Tile ]
- Resolution: 39135.75848200009
- Scale: 1.47914381897889E8
-
Level ID: 3
[ Start Tile, End Tile ]
- Resolution: 19567.87924099992
- Scale: 7.3957190948944E7
-
Level ID: 4
[ Start Tile, End Tile ]
- Resolution: 9783.93962049996
- Scale: 3.6978595474472E7
-
Level ID: 5
[ Start Tile, End Tile ]
- Resolution: 4891.96981024998
- Scale: 1.8489297737236E7
- Format: PNG
- Compression Quality: 0.0
- Origin: X: -2.0037508342787E7
Y: 2.0037508342787E7
- Spatial Reference: 102100
(3857)
Initial Extent:
XMin: 1731646.5810695952
YMin: 6281182.078913721
XMax: 2547623.213022859
YMax: 6479619.975789514
Spatial Reference: 102100
Full Extent:
XMin: 1836406.7118000016
YMin: 6011308.5879999995
XMax: 2525028.8819000013
YMax: 6442775.387100004
Spatial Reference: 102100
Units: esriMeters
Supported Image Format Types: PNG32,PNG24,PNG,JPG,DIB,TIFF,EMF,PS,PDF,GIF,SVG,SVGZ,BMP
Document Info:
Title:
Author:
Comments: VFRM
Subject: VFRM
Category:
Keywords: VFRM
AntialiasingMode: Best
TextAntialiasingMode: Force
Supports Dynamic Layers: false
Resampling: false
MaxRecordCount: 1000
MaxImageHeight: 4096
MaxImageWidth: 4096
Supported Query Formats: JSON, geoJSON
Supports Query Data Elements:
Min Scale: 4622324.434309
Max Scale: 4513.988705
Supports Datum Transformation: true
Child Resources:
Info
Supported Operations:
Export Map
Identify
QueryDomains
QueryLegends
Find
Return Updates